BEGIN:VCALENDAR
VERSION:2.0
PRODID:-//https://eruuf.org///NONSGML kigkonsult.se iCalcreator 2.10.15//
METHOD:PUBLISH
BEGIN:VEVENT
UID:20260423T045045UTC-2147xS7uUI@https://eruuf.org/
DTSTAMP:20260423T045045Z
DESCRIPTION:UU & Friends EcoTour to San Ramon\, Nicaragua\, Feb. 16 - 23\, 
 2020. Ecologically sustainable. Immerse yourself in the culture of rural N
 icaragua. Learn how coffee and cacao are grown. Bird watch and hike in the
  rain forest. Costs of the trip support the local community. More info: bi
 t.ly/SanRamon2020 https://eruuf.org/calendar/calendar-view/event/7632-uu-f
 riends-eco-tour-to-san-ramon-nicaragua.html
DTSTART;VALUE=DATE:20200216
LOCATION:San Ramon\, Nicaragua (San Ramon\, Nicaragua)
SUMMARY:UU & Friends Eco-Tour to San Ramon\, Nicaragua
URL:https://eruuf.org/calendar/calendar-view/event/7632-uu-friends-eco-tour
 -to-san-ramon-nicaragua.html
END:VEVENT
END:VCALENDAR
