BEGIN:VCALENDAR
VERSION:2.0
PRODID:-//https://eruuf.org///NONSGML kigkonsult.se iCalcreator 2.10.15//
METHOD:PUBLISH
BEGIN:VEVENT
UID:20260424T151846UTC-8622Ig7vSU@https://eruuf.org/
DTSTAMP:20260424T151846Z
DESCRIPTION:Revs. Deborah Cayer and Jacqueline Brett present this series of
  practical and experiential explorations of the role of spiritual practice
  in our lives and how we can sustain it. We'll meet on the first Saturday 
 of each month. All are welcome to participate however we ask that you regi
 ster in advance below.\nSession One is on Saturday\, August 3: Defining Sp
 iritual Practice\, 9:00 am\, Fellowship Hall\nRegister https://eruuf.org/c
 alendar/calendar-view/event/7638-exploring-spiritual-practice.html
DTSTART:20190803T130000Z
DTEND:20190803T153000Z
LOCATION:Fellowship Hall   ()
SUMMARY:Exploring Spiritual Practice
URL:https://eruuf.org/calendar/calendar-view/event/7638-exploring-spiritual
 -practice.html
END:VEVENT
END:VCALENDAR
