BEGIN:VCALENDAR
VERSION:2.0
PRODID:-//https://eruuf.org///NONSGML kigkonsult.se iCalcreator 2.10.15//
METHOD:PUBLISH
BEGIN:VEVENT
UID:20260424T042533UTC-8503SVXkvV@https://eruuf.org/
DTSTAMP:20260424T042533Z
DESCRIPTION:For more information contact Denise Frizzell\, deniseaf8@gmail.
 com. https://eruuf.org/calendar/calendar-view/event/7639-justice-ministry-
 all-congregational-gathering.html
DTSTART:20191027T050000Z
DTEND:20191027T183000Z
LOCATION:ERUUF Fellowship Hall (4907 Garrett Road)
SUMMARY:Justice Ministry All-Congregational Gathering
URL:https://eruuf.org/calendar/calendar-view/event/7639-justice-ministry-al
 l-congregational-gathering.html
END:VEVENT
END:VCALENDAR
