BEGIN:VCALENDAR
VERSION:2.0
PRODID:-//https://eruuf.org///NONSGML kigkonsult.se iCalcreator 2.10.15//
METHOD:PUBLISH
BEGIN:VEVENT
UID:20260424T054857UTC-8741Lo3V37@https://eruuf.org/
DTSTAMP:20260424T054857Z
DESCRIPTION:The Parent/Family group at ERUUF is planning the annual Parent/
 Family Campout for Labor Day weekend at Morrow Mountain State Park!  All E
 RUUF members and their families are welcome. This is an intergenerational 
 annual event. Send an email by August 1st to Jessica Sheffield with your n
 ame\, the number of adults in your group\, number of kids and ages of kids
  in your group\, and number of tents you are putting up. https://eruuf.org
 /calendar/calendar-view/event/7643-annual-family-campout.html
DTSTART;VALUE=DATE:20190831
LOCATION:Morrow Mountain State Park (49104 Morrow Mountain Rd\, Albemarle\,
  NC 28001\, USA)
SUMMARY:Annual Family Campout
URL:https://eruuf.org/calendar/calendar-view/event/7643-annual-family-campo
 ut.html
END:VEVENT
END:VCALENDAR
