BEGIN:VCALENDAR
VERSION:2.0
PRODID:-//https://eruuf.org///NONSGML kigkonsult.se iCalcreator 2.10.15//
METHOD:PUBLISH
BEGIN:VEVENT
UID:20260425T012129UTC-4773XdkUVS@https://eruuf.org/
DTSTAMP:20260425T012129Z
DESCRIPTION:Train for the Siembra NC ICE Watch program. Volunteers with dri
 ver’s licenses are trained on how to respond to requests for support that 
 come through our 24-hour hotline and dispatch system\, how to show up to a
  report of ICE or other law enforcement activity\, and how to interact wit
 h ICE agents to help keep immigrant neighbors safe. Questions\, contact Em
 ily Cox. \nSiembra NC is a grassroots group of undocumented Latinx residen
 ts\, supported by the local American Friends Service Committee (AFSC) offi
 ce. Learn more at the  SiembraNC Facebook page. https://eruuf.org/calendar
 /calendar-view/event/7647-siembra-nc-durham-ice-watch-training.html
DTSTART:20190730T223000Z
DTEND:20190731T000000Z
LOCATION:Fellowship Hall   ()
SUMMARY:Siembra NC Durham Ice Watch Training
URL:https://eruuf.org/calendar/calendar-view/event/7647-siembra-nc-durham-i
 ce-watch-training.html
END:VEVENT
END:VCALENDAR
