BEGIN:VCALENDAR
VERSION:2.0
PRODID:-//https://eruuf.org///NONSGML kigkonsult.se iCalcreator 2.10.15//
METHOD:PUBLISH
BEGIN:VEVENT
UID:20260419T195328UTC-64075fRBKf@https://eruuf.org/
DTSTAMP:20260419T195328Z
DESCRIPTION:Required first session of parent orientation for the 1st grade 
 OWL program. https://eruuf.org/calendar/calendar-view/event/765-first-grad
 e-owl-parent-orientation.html
DTSTART:20160110T174500Z
DTEND:20160110T194500Z
LOCATION:Room 3 - CARE Building ()
SUMMARY:First Grade OWL parent orientation
URL:https://eruuf.org/calendar/calendar-view/event/765-first-grade-owl-pare
 nt-orientation.html
END:VEVENT
END:VCALENDAR
