BEGIN:VCALENDAR
VERSION:2.0
PRODID:-//https://eruuf.org///NONSGML kigkonsult.se iCalcreator 2.10.15//
METHOD:PUBLISH
BEGIN:VEVENT
UID:20260424T085004UTC-039450gGZH@https://eruuf.org/
DTSTAMP:20260424T085004Z
DESCRIPTION:The Exploring Spiritual Practice series takes place first Satur
 days\, 8:30 - 11:00 am\, Fellowship Hall. Join us for session 2 on Saturda
 y\, September 7. We'll explore Keeping Sabbath and Prayer.  Revs. Deborah 
 Cayer and Jacqueline Brett present this series of practical and experienti
 al explorations of the role of spiritual practice in our lives and how we 
 can sustain it. We'll meet on the first Saturday of each month. All are we
 lcome to participate\, however we ask that you register in advance below. 
 \nRegister https://eruuf.org/calendar/calendar-view/event/7664-exploring-s
 piritual-practice-keeping-sabbath-and-prayer.html
DTSTART:20190907T130000Z
DTEND:20190907T153000Z
LOCATION:Fellowship Hall   ()
SUMMARY:Exploring Spiritual Practice: Keeping Sabbath and Prayer
URL:https://eruuf.org/calendar/calendar-view/event/7664-exploring-spiritual
 -practice-keeping-sabbath-and-prayer.html
END:VEVENT
END:VCALENDAR
