BEGIN:VCALENDAR
VERSION:2.0
PRODID:-//https://eruuf.org///NONSGML kigkonsult.se iCalcreator 2.10.15//
METHOD:PUBLISH
BEGIN:VEVENT
UID:20260420T051433UTC-0786vtrhiP@https://eruuf.org/
DTSTAMP:20260420T051433Z
DESCRIPTION:Revs. Deborah Cayer and Jacqueline Brett present this series of
  practical and experiential explorations of the role of spiritual practice
  in our lives and how we can sustain it. We'll meet on the first Saturday 
 of each month. All are welcome to participate however we ask that you regi
 ster in advance.\nRegister https://eruuf.org/calendar/calendar-view/event/
 7665-exploring-spiritual-practice.html
DTSTART:20191012T123000Z
DTEND:20191012T160000Z
LOCATION:Room 4/5   (4907 Garrett Rd\, Durham\, NC 27707   )
SUMMARY:Exploring Spiritual Practice
URL:https://eruuf.org/calendar/calendar-view/event/7665-exploring-spiritual
 -practice.html
END:VEVENT
END:VCALENDAR
