BEGIN:VCALENDAR
VERSION:2.0
PRODID:-//https://eruuf.org///NONSGML kigkonsult.se iCalcreator 2.10.15//
METHOD:PUBLISH
BEGIN:VEVENT
UID:20260423T180151UTC-7537FWnVm4@https://eruuf.org/
DTSTAMP:20260423T180151Z
DESCRIPTION: \nLearn how to approach worship as spiritual practice and the 
 role of ritual in our lives. We'll also explore possibilities for developi
 ng your own devotional practice.\nRevs. Deborah Cayer and Jacqueline Brett
  present this series of practical and experiential explorations of the rol
 e of spiritual practice in our lives and how we can sustain it. We'll meet
  on the first Saturday of each month. All are welcome to participate howev
 er we ask that you register in advance.\nRegister https://eruuf.org/calend
 ar/calendar-view/event/7666-exploring-spiritual-practice-class-4-worship-a
 s-spiritual-practice-lectio-divina.html
DTSTART:20191102T123000Z
DTEND:20191102T160000Z
LOCATION:Room 4/5   (4907 Garrett Rd\, Durham\, NC 27707   )
SUMMARY:Exploring Spiritual Practice: Class 4 - Worship as Spiritual Practi
 ce & Lectio Divina 
URL:https://eruuf.org/calendar/calendar-view/event/7666-exploring-spiritual
 -practice-class-4-worship-as-spiritual-practice-lectio-divina.html
END:VEVENT
END:VCALENDAR
