BEGIN:VCALENDAR
VERSION:2.0
PRODID:-//https://eruuf.org///NONSGML kigkonsult.se iCalcreator 2.10.15//
METHOD:PUBLISH
BEGIN:VEVENT
UID:20260420T210340UTC-7678uP1zOM@https://eruuf.org/
DTSTAMP:20260420T210340Z
DESCRIPTION:Revs. Deborah Cayer and Jacqueline Brett present this series of
  practical and experiential explorations of the role of spiritual practice
  in our lives and how we can sustain it. We'll meet on the first Saturday 
 of each month. All are welcome to participate however we ask that you regi
 ster in advance.\nThis month: Join us for Session 5. We'll explore how to 
 give and receive hospitality as a spiritual practice\, and what hospitalit
 y and belonging look like at ERUUF.  We'll also bring our attention to how
  we can approach work and  serving others as spiritual practice.\nRegister
 \n  https://eruuf.org/calendar/calendar-view/event/7667-exploring-spiritua
 l-practice.html
DTSTART:20191207T133000Z
DTEND:20191207T170000Z
LOCATION:Room 4/5   (4907 Garrett Rd\, Durham\, NC 27707   )
SUMMARY:Exploring Spiritual Practice
URL:https://eruuf.org/calendar/calendar-view/event/7667-exploring-spiritual
 -practice.html
END:VEVENT
END:VCALENDAR
