BEGIN:VCALENDAR
VERSION:2.0
PRODID:-//https://eruuf.org///NONSGML kigkonsult.se iCalcreator 2.10.15//
METHOD:PUBLISH
BEGIN:VEVENT
UID:20260423T204244UTC-50978Nzgxf@https://eruuf.org/
DTSTAMP:20260423T204244Z
DESCRIPTION:Justice Ministry Council Retreat-Potluck for members of our JMC
 .  For more information contact\, Denise Frizzzell\, deniseaf8@gmail.com h
 ttps://eruuf.org/calendar/calendar-view/event/7668-justice-ministry-counci
 l-retreat-potluck.html
DTSTART:20190810T163000Z
DTEND:20190810T203000Z
LOCATION:ERUUF Commons Room (4907 Garrett Road)
SUMMARY:Justice Ministry Council Retreat-Potluck
URL:https://eruuf.org/calendar/calendar-view/event/7668-justice-ministry-co
 uncil-retreat-potluck.html
END:VEVENT
END:VCALENDAR
