BEGIN:VCALENDAR
VERSION:2.0
PRODID:-//https://eruuf.org///NONSGML kigkonsult.se iCalcreator 2.10.15//
METHOD:PUBLISH
BEGIN:VEVENT
UID:20260422T055211UTC-9669DK9ncw@https://eruuf.org/
DTSTAMP:20260422T055211Z
DESCRIPTION:Required parent orientation of 8th Grade OWL programming.  For 
 more information contact\, bsimmons@eruuf.org.\n  https://eruuf.org/calend
 ar/calendar-view/event/7708-parent-orientation-for-8th-grade-owl.html
DTSTART:20190908T170000Z
DTEND:20190908T190000Z
LOCATION:Room 7 - CARE Building ()
SUMMARY:Parent Orientation for 8th Grade OWL
URL:https://eruuf.org/calendar/calendar-view/event/7708-parent-orientation-
 for-8th-grade-owl.html
END:VEVENT
END:VCALENDAR
