BEGIN:VCALENDAR
VERSION:2.0
PRODID:-//https://eruuf.org///NONSGML kigkonsult.se iCalcreator 2.10.15//
METHOD:PUBLISH
BEGIN:VEVENT
UID:20260424T101603UTC-0063dviRVU@https://eruuf.org/
DTSTAMP:20260424T101603Z
DESCRIPTION:High School and Young Adult Dance Party.  For more information 
 contact Allison Mahaley\, amahaley@eruuf.org. https://eruuf.org/calendar/c
 alendar-view/event/7709-high-school-and-young-adult-dance-party.html
DTSTART:20191214T230000Z
DTEND:20191215T040000Z
LOCATION:Commons Room   (4907 Garrett Rd\, Durham\, NC 27707  )
SUMMARY:High School and Young Adult Dance Party
URL:https://eruuf.org/calendar/calendar-view/event/7709-high-school-and-you
 ng-adult-dance-party.html
END:VEVENT
END:VCALENDAR
