BEGIN:VCALENDAR
VERSION:2.0
PRODID:-//https://eruuf.org///NONSGML kigkonsult.se iCalcreator 2.10.15//
METHOD:PUBLISH
BEGIN:VEVENT
UID:20260423T220617UTC-0735Dsh9Dd@https://eruuf.org/
DTSTAMP:20260423T220617Z
DESCRIPTION:Plant based potluck at 6:30. Film at 7. Followed by Q&A with th
 e director. “A Prayer for Compassion” strives to inspire and encourage tho
 se already on a religious or spiritual path\, to expand their circle of co
 mpassion to embrace all life\, regardless of species\, and make choices in
  alignment with this value. For more information\, contact: Betsy Bickel\,
  betsybickel@gmail.com https://eruuf.org/calendar/calendar-view/event/7756
 -a-prayer-for-compassion-film-potluck-and-meet-the-director.html
DTSTART:20190921T223000Z
DTEND:20190922T010000Z
LOCATION:ERUUF Fellowship Hall (4907 Garrett Road)
SUMMARY:A Prayer For Compassion: Film\, potluck and Meet the Director
URL:https://eruuf.org/calendar/calendar-view/event/7756-a-prayer-for-compas
 sion-film-potluck-and-meet-the-director.html
END:VEVENT
END:VCALENDAR
