BEGIN:VCALENDAR
VERSION:2.0
PRODID:-//https://eruuf.org///NONSGML kigkonsult.se iCalcreator 2.10.15//
METHOD:PUBLISH
BEGIN:VEVENT
UID:20260422T085858UTC-6570gAwM9D@https://eruuf.org/
DTSTAMP:20260422T085858Z
DESCRIPTION:\n\n\n\n\n \n\n\n\n\n\n\n\n\n\n\n\n\n\n\n \n \nThe Harper-Jorda
 n Memorial Symposium responds to a longing on the part of many Black Unita
 rian Universalists to more fully understand where we have been\, who we ar
 e now\, and how we hope to live out our Unitarian Universalism as Black pe
 ople.\nThis four-day gathering will offer a welcome reception on Wednesday
  evening\; educative\, informative\, and interactive plenaries on Thursday
  and Friday\; spiritual grounding and worship experiences that speak direc
 tly to our onsite learning\; and as many meaningful and joy-filled network
 ing and community-building opportunities as you can handle. We will conclu
 de our time together with a worship service on Saturday morning\, open to 
 all\, at Unity Church-Unitarian.We are opening ourselves up to an articula
 tion of Unitarian Universalism that is unapologetically Black and proceeds
  from our co-creation and co-development\, such that we might proclaim and
  clarify a vision for a Black Unitarian Universalism. Join us in St. Paul\
 , Minnesota for this historic event!\nThe Symposium is open to everyone\, 
 and we are prioritizing spaces for Black people\, Indigenous people and Pe
 ople of Color. Please register and we'll follow up and let you know when r
 egistration is full.\nThis exciting symposium is named for Frances Ellen W
 atkins Harper (abolitionist\, suffragist\, author\, Unitarian) and Rev. Jo
 seph Jordan (the first Black ordained Universalist).\n \nLearn more about 
 the Symposium and register here.  Questions\, contact Rev. Jacqueline Bret
 t. \n \n\n\n\n\n\n\n\n\n\n\n\n\n \n\n\n\n https://eruuf.org/calendar/calen
 dar-view/event/7757-bluu-harper-jordan-memorial-symposium.html
DTSTART:20191030T220000Z
DTEND:20191102T140000Z
LOCATION:Hotel InterContinental\, St. Paul\, MN ()
SUMMARY:BLUU Harper-Jordan Memorial Symposium 
URL:https://eruuf.org/calendar/calendar-view/event/7757-bluu-harper-jordan-
 memorial-symposium.html
END:VEVENT
END:VCALENDAR
