BEGIN:VCALENDAR
VERSION:2.0
PRODID:-//https://eruuf.org///NONSGML kigkonsult.se iCalcreator 2.10.15//
METHOD:PUBLISH
BEGIN:VEVENT
UID:20260423T140543UTC-1043vJbvKk@https://eruuf.org/
DTSTAMP:20260423T140543Z
DESCRIPTION:The Inquirers Series is offered to welcome and inform visitors 
 and friends about ERUUF. Members are welcome to these classes as well. You
  will converse with ministers\, staff\, and lay leaders as you learn about
  ERUUF’s values\, culture and ministries\, along with basics about Unitari
 an Universalism. Eight topics are covered\, one per session.  See Inquirer
 s Series. #FindingYourWay@ERUUF\n \n  https://eruuf.org/calendar/calendar-
 view/event/7762-inquirers-class.html
DTSTART:20190714T141000Z
DTEND:20190714T150500Z
LOCATION:Commons Room   (4907 Garrett Rd\, Durham\, NC 27707  )
SUMMARY:Inquirers class
URL:https://eruuf.org/calendar/calendar-view/event/7762-inquirers-class.htm
 l
END:VEVENT
END:VCALENDAR
