BEGIN:VCALENDAR
VERSION:2.0
PRODID:-//https://eruuf.org///NONSGML kigkonsult.se iCalcreator 2.10.15//
METHOD:PUBLISH
BEGIN:VEVENT
UID:20260422T171516UTC-1094VboX0E@https://eruuf.org/
DTSTAMP:20260422T171516Z
DESCRIPTION:Help out Book Harvest even more beyond our Generosity Sunday th
 is month by coming down to the Book Harvest office to sort books from 10 a
 m to 1pm. Families welcome. Contact Beth Harvat or Sharon Carrington Casto
 n for more information. https://eruuf.org/calendar/calendar-view/event/780
 -service-saturday-at-book-harvest.html
DTSTART:20151212T150000Z
DTEND:20151212T170000Z
LOCATION:Book Harvest office (2706 Durham-Chapel Hill Boulevard\, Durham\, 
 NC)
SUMMARY:Service Saturday at Book Harvest
URL:https://eruuf.org/calendar/calendar-view/event/780-service-saturday-at-
 book-harvest.html
END:VEVENT
END:VCALENDAR
