BEGIN:VCALENDAR
VERSION:2.0
PRODID:-//https://eruuf.org///NONSGML kigkonsult.se iCalcreator 2.10.15//
METHOD:PUBLISH
BEGIN:VEVENT
UID:20260421T112247UTC-38793wh2uA@https://eruuf.org/
DTSTAMP:20260421T112247Z
DESCRIPTION:Using values\, communication skills and spirituality as startin
 g points\, this program explores sexuality issues for adults of all ages.
 \nBegins Sunday\, September 22 and completes on December 8\, 2019. Novembe
 r 24 is skipped (Thanksgiving weekend.) Suggested ages: 18 years and up.  
 This class is part of Sunday Night Live!\n Please complete the form below.
 \n   https://eruuf.org/calendar/calendar-view/event/7811-adult-owl-our-who
 le-lives.html
DTSTART:20191013T203000Z
DTEND:20191013T220000Z
LOCATION:Room 1 - CARE Building ()
SUMMARY:Adult OWL (Our Whole Lives)
URL:https://eruuf.org/calendar/calendar-view/event/7811-adult-owl-our-whole
 -lives.html
END:VEVENT
END:VCALENDAR
