BEGIN:VCALENDAR
VERSION:2.0
PRODID:-//https://eruuf.org///NONSGML kigkonsult.se iCalcreator 2.10.15//
METHOD:PUBLISH
BEGIN:VEVENT
UID:20260422T083810UTC-7501sEs2tL@https://eruuf.org/
DTSTAMP:20260422T083810Z
DESCRIPTION:UU History 101 is a 7-session introduction to concepts and peop
 le from our UU history\, approached from the starting point of compelling 
 stories and personalities. We will explore the questions those people face
 d\, and make connections with our own lives and the world around us today.
  We will also learn about the history of ERUUF during this class. Please r
 egister below. Questions? Contact: adultprograms@eruuf.org.\n \n  https://
 eruuf.org/calendar/calendar-view/event/7820-uu-history-101.html
DTSTART:20191006T141000Z
DTEND:20191006T151000Z
LOCATION:CARE Building\, Room 4/5 (4907 Garrett Road)
SUMMARY:UU History 101
URL:https://eruuf.org/calendar/calendar-view/event/7820-uu-history-101.html
END:VEVENT
END:VCALENDAR
