BEGIN:VCALENDAR
VERSION:2.0
PRODID:-//https://eruuf.org///NONSGML kigkonsult.se iCalcreator 2.10.15//
METHOD:PUBLISH
BEGIN:VEVENT
UID:20260420T134444UTC-7097IoIVGd@https://eruuf.org/
DTSTAMP:20260420T134444Z
DESCRIPTION:Our Whole Lives program for fifth grade students. Preregistrati
 on required. This class is currently full.  Register to be on the wait lis
 t\, For more information\, elemowl@eruuf.org https://eruuf.org/calendar/ca
 lendar-view/event/7833-5th-grade-owl-our-whole-lives.html
DTSTART:20191027T203000Z
DTEND:20191027T220000Z
LOCATION:Room 15 - CARE Building ()
SUMMARY:5th Grade OWL (Our Whole Lives)
URL:https://eruuf.org/calendar/calendar-view/event/7833-5th-grade-owl-our-w
 hole-lives.html
END:VEVENT
END:VCALENDAR
