BEGIN:VCALENDAR
VERSION:2.0
PRODID:-//https://eruuf.org///NONSGML kigkonsult.se iCalcreator 2.10.15//
METHOD:PUBLISH
BEGIN:VEVENT
UID:20260420T222728UTC-9544P3uAvV@https://eruuf.org/
DTSTAMP:20260420T222728Z
DESCRIPTION:Our Whole Lives program for fifth grade students. Preregistrati
 on required. This class is currently full.  Register to be on the wait lis
 t\, For more information\, elemowl@eruuf.org https://eruuf.org/calendar/ca
 lendar-view/event/7835-5th-grade-owl-our-whole-lives.html
DTSTART:20191110T213000Z
DTEND:20191110T230000Z
LOCATION:Room 15 - CARE Building ()
SUMMARY:5th Grade OWL (Our Whole Lives)
URL:https://eruuf.org/calendar/calendar-view/event/7835-5th-grade-owl-our-w
 hole-lives.html
END:VEVENT
END:VCALENDAR
