BEGIN:VCALENDAR
VERSION:2.0
PRODID:-//https://eruuf.org///NONSGML kigkonsult.se iCalcreator 2.10.15//
METHOD:PUBLISH
BEGIN:VEVENT
UID:20260422T042250UTC-8108D7t4VX@https://eruuf.org/
DTSTAMP:20260422T042250Z
DESCRIPTION:Potluck dinner to celebrate the victories for affordable housin
 g and make plans to ensure what was gained becomes a reality. https://eruu
 f.org/calendar/calendar-view/event/784-durham-can-next-steps-potluck.html
DTSTART:20151119T233000Z
DTEND:20151120T013000Z
LOCATION:Fellowship Hall   ()
SUMMARY:Durham CAN 'next steps'  potluck
URL:https://eruuf.org/calendar/calendar-view/event/784-durham-can-next-step
 s-potluck.html
END:VEVENT
END:VCALENDAR
