BEGIN:VCALENDAR
VERSION:2.0
PRODID:-//https://eruuf.org///NONSGML kigkonsult.se iCalcreator 2.10.15//
METHOD:PUBLISH
BEGIN:VEVENT
UID:20260420T184937UTC-4896TrguHv@https://eruuf.org/
DTSTAMP:20260420T184937Z
DESCRIPTION:Our Whole Lives class for 8th graders.  Preregistration require
 d.  This class is currently full.  Register to be on a wait list.  For mor
 e info\, see https://www.eruuf.org/program-details/8th-grade-owl.html http
 s://eruuf.org/calendar/calendar-view/event/7870-8th-grade-owl-our-whole-li
 ves.html
DTSTART:20200419T150000Z
DTEND:20200419T163000Z
LOCATION:Room 7 - CARE Building ()
SUMMARY:8th Grade OWL (Our Whole Lives)
URL:https://eruuf.org/calendar/calendar-view/event/7870-8th-grade-owl-our-w
 hole-lives.html
END:VEVENT
END:VCALENDAR
