BEGIN:VCALENDAR
VERSION:2.0
PRODID:-//https://eruuf.org///NONSGML kigkonsult.se iCalcreator 2.10.15//
METHOD:PUBLISH
BEGIN:VEVENT
UID:20260419T233917UTC-8683EeWi6t@https://eruuf.org/
DTSTAMP:20260419T233917Z
DESCRIPTION:Accountability Session with all the candidates for City Council
 . The goal of this non-partisan meeting is to gain the public endorsement 
 of the candidates for the CAN community agenda. CAN doesn't endorse candid
 ates for public office\, but candidates can decide if they endorse our age
 nda on affordable housing . https://eruuf.org/calendar/calendar-view/event
 /788-durham-can-assembly-city-council-candidates.html
DTSTART:20151026T230000Z
DTEND:20151027T003000Z
LOCATION:Duke Memorial United Methodist Church (504 West Chapel Hill St.\, 
 Durham)
SUMMARY:Durham CAN Assembly - City Council candidates
URL:https://eruuf.org/calendar/calendar-view/event/788-durham-can-assembly-
 city-council-candidates.html
END:VEVENT
END:VCALENDAR
