BEGIN:VCALENDAR
VERSION:2.0
PRODID:-//https://eruuf.org///NONSGML kigkonsult.se iCalcreator 2.10.15//
METHOD:PUBLISH
BEGIN:VEVENT
UID:20260423T223957UTC-2553sckruo@https://eruuf.org/
DTSTAMP:20260423T223957Z
DESCRIPTION:Open-mic night with family-friendly performances and potluck de
 ssert. Doors open at 6:30. Bring a dessert to share (and a small donation)
  and join us for an evening of fun and fellowship. For information\, conta
 ct Pam DiLavore. https://eruuf.org/calendar/calendar-view/event/7881-cafe-
 eruuf.html
DTSTART:20190928T230000Z
DTEND:20190929T010000Z
LOCATION:Fellowship Hall   ()
SUMMARY:Cafe ERUUF
URL:https://eruuf.org/calendar/calendar-view/event/7881-cafe-eruuf.html
END:VEVENT
END:VCALENDAR
