BEGIN:VCALENDAR
VERSION:2.0
PRODID:-//https://eruuf.org///NONSGML kigkonsult.se iCalcreator 2.10.15//
METHOD:PUBLISH
BEGIN:VEVENT
UID:20260423T141014UTC-14113vVCGg@https://eruuf.org/
DTSTAMP:20260423T141014Z
DESCRIPTION:The Healthy Congregation Committee will offer a Listening Circl
 e in the Chapel after each service on Sunday\, September 8. The purpose is
  to create the opportunity for people to share what's on their mind about 
 clapping during the service\, and especially to listen with an open heart 
 to what's important to fellow members.  https://eruuf.org/calendar/calenda
 r-view/event/7883-hcc-listening-circle.html
DTSTART:20190908T140000Z
DTEND:20190908T150000Z
LOCATION:Chapel   ()
SUMMARY:HCC Listening Circle
URL:https://eruuf.org/calendar/calendar-view/event/7883-hcc-listening-circl
 e.html
END:VEVENT
END:VCALENDAR
