BEGIN:VCALENDAR
VERSION:2.0
PRODID:-//https://eruuf.org///NONSGML kigkonsult.se iCalcreator 2.10.15//
METHOD:PUBLISH
BEGIN:VEVENT
UID:20260422T163659UTC-0377g1pu13@https://eruuf.org/
DTSTAMP:20260422T163659Z
DESCRIPTION:Drop by the UU booth at Pride in Durham NC to meet up with  ERU
 UF's Pride+ team\, Beloved Community Chorus and UUs from around the Triang
 le for the Pride Festival\,10:00 am and Parade\, 11:00 am. Duke East Campu
 s\, 712 Broad St.  https://eruuf.org/calendar/calendar-view/event/7886-pri
 de-festival-and-parade.html
DTSTART:20190928T140000Z
DTEND:20190928T160000Z
LOCATION:Duke East Campus\, Durham\, NC ()
SUMMARY:Pride Festival and Parade 
URL:https://eruuf.org/calendar/calendar-view/event/7886-pride-festival-and-
 parade.html
END:VEVENT
END:VCALENDAR
