BEGIN:VCALENDAR
VERSION:2.0
PRODID:-//https://eruuf.org///NONSGML kigkonsult.se iCalcreator 2.10.15//
METHOD:PUBLISH
BEGIN:VEVENT
UID:20260421T042848UTC-2093XvhK5g@https://eruuf.org/
DTSTAMP:20260421T042848Z
DESCRIPTION:Orientation session for this year's Coming of Age mentors. We w
 ill cover expectations\, safety considerations and what makes a great ment
 oring experience.  For more information contact Kat Moran\, kat.mh.moran@g
 mail.com. https://eruuf.org/calendar/calendar-view/event/7887-coming-of-ag
 e.html
DTSTART:20191006T140000Z
DTEND:20191006T150000Z
LOCATION:Room 7 - CARE Building ()
SUMMARY:Coming of Age
URL:https://eruuf.org/calendar/calendar-view/event/7887-coming-of-age.html
END:VEVENT
END:VCALENDAR
