BEGIN:VCALENDAR
VERSION:2.0
PRODID:-//https://eruuf.org///NONSGML kigkonsult.se iCalcreator 2.10.15//
METHOD:PUBLISH
BEGIN:VEVENT
UID:20260422T013032UTC-4946AxvwRS@https://eruuf.org/
DTSTAMP:20260422T013032Z
DESCRIPTION:Durham CAN Public Accountability Action with residents of the H
 oover Road Community and Anthony Scott\, CEO\, Durham Housing Authority\n 
  \nJoin Durham CAN leaders\, the residents of the Hoover Road Community\, 
 a Durham Housing Authority neighborhood\, and Mr Scott in a public account
 ability action. Mr. Scott has committed to the  following:\n\nPresenting h
 is plan for completing repairs\nProviding mandatory training for all DHA h
 ousing staff on HUD\, City of Durham and DHA housing standards \nOrganizin
 g resident education session(s) re: tenant rights\nRestoring/crediting all
  eviction court fees charged to all DHA residents in 2018 and 2019 due to 
 DHA error\nMaking public commitment and progress report to Hoover Road com
 munity\n\nGoal: 10 ERUUF attendees\n \nRSVP to Heather Ladd and Dick Hails
  at durhamcanactionteam@eruuf.org\n \nLearn more about the public accounta
 bility action here.   https://eruuf.org/calendar/calendar-view/event/7888-
 durham-can-public-accountability-action.html
DTSTART:20190919T220000Z
DTEND:20190919T230000Z
LOCATION:Hoover Road Community  (1126 South Hoover Road)
SUMMARY:Durham CAN Public Accountability Action 
URL:https://eruuf.org/calendar/calendar-view/event/7888-durham-can-public-a
 ccountability-action.html
END:VEVENT
END:VCALENDAR
