BEGIN:VCALENDAR
VERSION:2.0
PRODID:-//https://eruuf.org///NONSGML kigkonsult.se iCalcreator 2.10.15//
METHOD:PUBLISH
BEGIN:VEVENT
UID:20260420T161320UTC-0284AoEnbV@https://eruuf.org/
DTSTAMP:20260420T161320Z
DESCRIPTION:Durham CAN continues to advocate for affordable housing near th
 e proposed stops for the light rail\, in particular on a two acre plot of 
 land that the city owns on Jackson St.  This meeting will plan next steps 
 as the City Council has not yet made a final decision about what to do wit
 h the land. Foir more information\, click here. https://eruuf.org/calendar
 /calendar-view/event/789-durham-can-planning-meeting-regarding-affordable-
 housing.html
DTSTART:20150928T220000Z
DTEND:20150929T000000Z
LOCATION:Center for Responsible Lending ( 302 West Main Street\, Durham\, N
 C 27701 )
SUMMARY:Durham CAN planning meeting regarding Affordable Housing
URL:https://eruuf.org/calendar/calendar-view/event/789-durham-can-planning-
 meeting-regarding-affordable-housing.html
END:VEVENT
END:VCALENDAR
