BEGIN:VCALENDAR
VERSION:2.0
PRODID:-//https://eruuf.org///NONSGML kigkonsult.se iCalcreator 2.10.15//
METHOD:PUBLISH
BEGIN:VEVENT
UID:20260425T235009UTC-51156FiPuU@https://eruuf.org/
DTSTAMP:20260425T235009Z
DESCRIPTION:Quarterly meeting of the Infuusions Giving Circle. For more inf
 ormation\, contact Beth Harvat\, bethandpeter@gmail.com https://eruuf.org/
 calendar/calendar-view/event/7895-infuusions-giving-circle.html
DTSTART:20191020T170000Z
DTEND:20191020T190000Z
LOCATION:Room 3 - CARE Building ()
SUMMARY:Infuusions Giving Circle
URL:https://eruuf.org/calendar/calendar-view/event/7895-infuusions-giving-c
 ircle.html
END:VEVENT
END:VCALENDAR
