BEGIN:VCALENDAR
VERSION:2.0
PRODID:-//https://eruuf.org///NONSGML kigkonsult.se iCalcreator 2.10.15//
METHOD:PUBLISH
BEGIN:VEVENT
UID:20260422T054219UTC-1331zJ6zVW@https://eruuf.org/
DTSTAMP:20260422T054219Z
DESCRIPTION: https://eruuf.org/calendar/calendar-view/event/7897-uu-womensp
 irit.html
DTSTART:20191016T040000Z
DTEND:20191020T160000Z
LOCATION:The Mountain Learning & Retreat Center  (Highlands\, NC)
SUMMARY:UU Womenspirit 
URL:https://eruuf.org/calendar/calendar-view/event/7897-uu-womenspirit.html
END:VEVENT
END:VCALENDAR
