BEGIN:VCALENDAR
VERSION:2.0
PRODID:-//https://eruuf.org///NONSGML kigkonsult.se iCalcreator 2.10.15//
METHOD:PUBLISH
BEGIN:VEVENT
UID:20260421T170943UTC-5963KOu2pZ@https://eruuf.org/
DTSTAMP:20260421T170943Z
DESCRIPTION:Revs. Deborah Cayer and Jacqueline Brett present this series of
  practical and experiential explorations of the role of spiritual practice
  in our lives and how we can sustain it. We meet on the first Saturday of 
 each month\, 9:00 am - 12 noon. All are welcome to participate\, however w
 e ask that you register in advance below.\nThe Exploring Spiritual Practic
 e series turns to Deepening Spiritual Practice as we enter 2020! Plan to a
 rrive by 8:45 to settle in\, as we will begin promptly at 9:00.\nJoin us o
 n Saturday\, March 7 for a session focused on your personal spiritual path
 \, how you are (or might) integrate spiritual practice into various aspect
 s of your life. We'll also explore the creation of your personal lectionar
 y -- the sources you draw upon for personal inspiration.\nRegister https:/
 /eruuf.org/calendar/calendar-view/event/7899-deepening-spiritual-practice-
 2020-life-as-spiritual-practice-and-spiritual-sources.html
DTSTART:20200307T133000Z
DTEND:20200307T170000Z
LOCATION:Fellowship Hall   ()
SUMMARY:Deepening Spiritual Practice 2020: Life As Spiritual Practice and S
 piritual Sources
URL:https://eruuf.org/calendar/calendar-view/event/7899-deepening-spiritual
 -practice-2020-life-as-spiritual-practice-and-spiritual-sources.html
END:VEVENT
END:VCALENDAR
