BEGIN:VCALENDAR
VERSION:2.0
PRODID:-//https://eruuf.org///NONSGML kigkonsult.se iCalcreator 2.10.15//
METHOD:PUBLISH
BEGIN:VEVENT
UID:20260421T235904UTC-7132UO8aN7@https://eruuf.org/
DTSTAMP:20260421T235904Z
DESCRIPTION:LGBT Pride Parade and Festival held on Duke University East Cam
 pus. Starts with a 5K run at 8:30am and includes a parade at 1 pm and all-
 day/night festival. ERUUF will be partnering with other UU fellowships to 
 show our support for the community. Help plan the UU float\, staff the boo
 th\, or march in the parade. For more information click here or check out 
 the NCPride website. To sign up to volunteer: http://vols.pt/8XJh4w or che
 ck out the table during the Connections Fair on Sept. 20th. https://eruuf.
 org/calendar/calendar-view/event/790-2015-nc-pride-parade.html
DTSTART;VALUE=DATE:20150924
LOCATION:Duke University East Campus (W. Main Street)
SUMMARY:2015 NC Pride Parade
URL:https://eruuf.org/calendar/calendar-view/event/790-2015-nc-pride-parade
 .html
END:VEVENT
END:VCALENDAR
