BEGIN:VCALENDAR
VERSION:2.0
PRODID:-//https://eruuf.org///NONSGML kigkonsult.se iCalcreator 2.10.15//
METHOD:PUBLISH
BEGIN:VEVENT
UID:20260419T164310UTC-4322ketJjr@https://eruuf.org/
DTSTAMP:20260419T164310Z
DESCRIPTION:Revs. Deborah Cayer and Jacqueline Brett present this series of
  practical and experiential explorations of the role of spiritual practice
  in our lives and how we can sustain it. We'll meet on the first Saturday 
 of each month. All are welcome to participate however we ask that you regi
 ster in advance.\nRegister https://eruuf.org/calendar/calendar-view/event/
 7900-exploring-spiritual-practice.html
DTSTART:20200404T123000Z
DTEND:20200404T160000Z
LOCATION:Commons Room  ()
SUMMARY:Exploring Spiritual Practice
URL:https://eruuf.org/calendar/calendar-view/event/7900-exploring-spiritual
 -practice.html
END:VEVENT
END:VCALENDAR
