BEGIN:VCALENDAR
VERSION:2.0
PRODID:-//https://eruuf.org///NONSGML kigkonsult.se iCalcreator 2.10.15//
METHOD:PUBLISH
BEGIN:VEVENT
UID:20260425T155635UTC-2202KJBbsR@https://eruuf.org/
DTSTAMP:20260425T155635Z
DESCRIPTION:Revs. Deborah Cayer and Jacqueline Brett present this series of
  practical and experiential explorations of the role of spiritual practice
  in our lives and how we can sustain it.\nJoin Rev. Brett for an online se
 ssion that explores engaged spirituality – how we nurture our spirits with
 in our faith tradition to be able to engage in transformative work in the 
 world.\nAll are welcome to participate\, however\, we ask that you registe
 r in advance below. Once you've registered we'll send you the Zoom log-in 
 info. \n \nRegister https://eruuf.org/calendar/calendar-view/event/7901-de
 epening-spiritual-practice-spiritual-practices-and-the-world.html
DTSTART:20200502T130000Z
DTEND:20200502T141500Z
LOCATION:Online (Zoom) (Scroll down to join or register.) ()
SUMMARY:Deepening Spiritual Practice: Spiritual Practices and the World
URL:https://eruuf.org/calendar/calendar-view/event/7901-deepening-spiritual
 -practice-spiritual-practices-and-the-world.html
END:VEVENT
END:VCALENDAR
