BEGIN:VCALENDAR
VERSION:2.0
PRODID:-//https://eruuf.org///NONSGML kigkonsult.se iCalcreator 2.10.15//
METHOD:PUBLISH
BEGIN:VEVENT
UID:20260421T122323UTC-3195hFdmvO@https://eruuf.org/
DTSTAMP:20260421T122323Z
DESCRIPTION:Start the year off with a spiritual tune-up in this retreat day
  of spiritual practices like yoga\, sound healing\, art making\, writing p
 ractices\, and Qigong. Facilitated by the ministers and practitioners at E
 RUUF.  Revs. Deborah Cayer and Jacqueline Brett present this series of pra
 ctical and experiential explorations of the role of spiritual practice in 
 our lives and how we can sustain it. We'll meet on the first Saturday of e
 ach month. All are welcome to participate\, however we ask that you regist
 er in advance.\nRevs. Deborah Cayer and Jacqueline Brett present this seri
 es of practical and experiential explorations of the role of spiritual pra
 ctice in our lives and how we can sustain it. We'll meet on the first Satu
 rday of each month. All are welcome to participate however we ask that you
  register in advance.\nRegister https://eruuf.org/calendar/calendar-view/e
 vent/7902-exploring-spiritual-practice-retreat.html
DTSTART;VALUE=DATE:20200201
LOCATION:Fellowship Hall   ()
SUMMARY:Exploring Spiritual Practice Retreat 
URL:https://eruuf.org/calendar/calendar-view/event/7902-exploring-spiritual
 -practice-retreat.html
END:VEVENT
END:VCALENDAR
