BEGIN:VCALENDAR
VERSION:2.0
PRODID:-//https://eruuf.org///NONSGML kigkonsult.se iCalcreator 2.10.15//
METHOD:PUBLISH
BEGIN:VEVENT
UID:20260423T182430UTC-97944bJ2W3@https://eruuf.org/
DTSTAMP:20260423T182430Z
DESCRIPTION:The first of a series of 4 workshops providing leadership devel
 opment training for all ERUUF group leaders .  The theme will be 'covenant
 ' at this meeting. https://eruuf.org/calendar/calendar-view/event/791-eruu
 f-leadership-forum.html
DTSTART:20150914T230000Z
DTEND:20150915T010000Z
LOCATION:Fellowship Hall   ()
SUMMARY:ERUUF Leadership Forum
URL:https://eruuf.org/calendar/calendar-view/event/791-eruuf-leadership-for
 um.html
END:VEVENT
END:VCALENDAR
