BEGIN:VCALENDAR
VERSION:2.0
PRODID:-//https://eruuf.org///NONSGML kigkonsult.se iCalcreator 2.10.15//
METHOD:PUBLISH
BEGIN:VEVENT
UID:20260423T040337UTC-9864IAKcxX@https://eruuf.org/
DTSTAMP:20260423T040337Z
DESCRIPTION:Sign up to go on a Labor Camp Visit with National Farm Worker M
 inistry staff and FLOC Organizers to monitor and report on labor camp cond
 itions. Find out more information here or contact Dave Austin\, justice@er
 uuf.org. https://eruuf.org/calendar/calendar-view/event/793-labor-camp-vis
 its-with-national-farm-work-ministry.html
DTSTART:20150724T203000Z
DTEND:20150725T013000Z
LOCATION:ERUUF Campus   (4907 Garrett Rd\, Durham\, NC 27707    )
SUMMARY:Labor Camp Visits with National Farm Work Ministry
URL:https://eruuf.org/calendar/calendar-view/event/793-labor-camp-visits-wi
 th-national-farm-work-ministry.html
END:VEVENT
END:VCALENDAR
