BEGIN:VCALENDAR
VERSION:2.0
PRODID:-//https://eruuf.org///NONSGML kigkonsult.se iCalcreator 2.10.15//
METHOD:PUBLISH
BEGIN:VEVENT
UID:20260424T183820UTC-4742RAo6u7@https://eruuf.org/
DTSTAMP:20260424T183820Z
DESCRIPTION:October 23: Toni Morrison: The Pieces I Am\nAn artful and intim
 ate meditation on the life and works of the legendary storyteller and nobl
 e prize winner.  From her childhood in the steel town of Lorain\, Ohio\, t
 o ‘70-era book tours with Muhammad Ali\, from the front lines with Angela 
 Davis to her own riverfront writing room- Toni Morrison leads an assembly 
 of her peers\, critics and colleagues on an exploration of race\, America\
 , history and the human condition as seen through the prism of her own lit
 erature. Questions? Contact Diane Blount\, cantu99797@aol.com.  https://er
 uuf.org/calendar/calendar-view/event/7935-multicultural-team-mct-film-seri
 es.html
DTSTART:20191023T223000Z
DTEND:20191024T010000Z
LOCATION:Commons Room   (4907 Garrett Rd\, Durham\, NC 27707  )
SUMMARY:Multicultural Team (MCT) Film Series 
URL:https://eruuf.org/calendar/calendar-view/event/7935-multicultural-team-
 mct-film-series.html
END:VEVENT
END:VCALENDAR
