BEGIN:VCALENDAR
VERSION:2.0
PRODID:-//https://eruuf.org///NONSGML kigkonsult.se iCalcreator 2.10.15//
METHOD:PUBLISH
BEGIN:VEVENT
UID:20260421T085227UTC-5959bMgSwG@https://eruuf.org/
DTSTAMP:20260421T085227Z
DESCRIPTION:The Child Dedication Orientation will help families reflect on 
 what the Dedication rite of passage\, what it means to your family as well
  as what dedication means in our UU tradition.  For more information conta
 ct Julia Tyler\, jtyler@eruuf.org. https://eruuf.org/calendar/calendar-vie
 w/event/7938-child-dedication-orientation.html
DTSTART:20191013T142000Z
DTEND:20191013T150500Z
LOCATION:Library - CARE Building ()
SUMMARY:Child Dedication Orientation
URL:https://eruuf.org/calendar/calendar-view/event/7938-child-dedication-or
 ientation.html
END:VEVENT
END:VCALENDAR
