BEGIN:VCALENDAR
VERSION:2.0
PRODID:-//https://eruuf.org///NONSGML kigkonsult.se iCalcreator 2.10.15//
METHOD:PUBLISH
BEGIN:VEVENT
UID:20260424T095946UTC-3691kwaemC@https://eruuf.org/
DTSTAMP:20260424T095946Z
DESCRIPTION:Durham CAN will be meeting at ERUUF to evaluate the outcome of 
 our recent public meeting of Delegates. We will also decide on collective 
 next steps. Action teams (education\, youth opportunity and jobs/living wa
 ges) will meet to sharpen their research and proposals for action. Regardl
 ess of your participation level and since ERUUF is a member of Durham CAN\
 , ALL ERUUFians are invited/encouraged to attend and find out how CAN work
 s.  https://eruuf.org/calendar/calendar-view/event/794-durham-can-planning
 -and-evaluation-meeting.html
DTSTART:20150723T220000Z
DTEND:20150724T000000Z
LOCATION:Commons Room   (4907 Garrett Rd\, Durham\, NC 27707  )
SUMMARY:Durham CAN planning and evaluation meeting
URL:https://eruuf.org/calendar/calendar-view/event/794-durham-can-planning-
 and-evaluation-meeting.html
END:VEVENT
END:VCALENDAR
