BEGIN:VCALENDAR
VERSION:2.0
PRODID:-//https://eruuf.org///NONSGML kigkonsult.se iCalcreator 2.10.15//
METHOD:PUBLISH
BEGIN:VEVENT
UID:20260424T084029UTC-03359zMuvw@https://eruuf.org/
DTSTAMP:20260424T084029Z
DESCRIPTION:November 13\, 2019: The Best of Enemies - A timely drama that c
 enters on an unlikely relationship between Ann Atwater (Academy award winn
 er nominee Taraji P Henson\, Hidden Figures)\, an outspoken civil rights a
 ctivist and C.P. Ellis (Academy Award winner Sam Rockwell\, Three Billboar
 ds Outside Ebbing \, Missouri)\, a local Ku Klux Klan leader who reluctant
 ly co-chaired a community summit \, balling over the desegregation of scho
 ols in Durham\, North Carolina during the racially charged summer of 1971.
 \n \nRegister https://eruuf.org/calendar/calendar-view/event/7940-multicul
 tural-team-mct-film-series.html
DTSTART:20191113T233000Z
DTEND:20191114T020000Z
LOCATION:Commons Room   (4907 Garrett Rd\, Durham\, NC 27707  )
SUMMARY:Multicultural Team (MCT) Film Series 
URL:https://eruuf.org/calendar/calendar-view/event/7940-multicultural-team-
 mct-film-series.html
END:VEVENT
END:VCALENDAR
