BEGIN:VCALENDAR
VERSION:2.0
PRODID:-//https://eruuf.org///NONSGML kigkonsult.se iCalcreator 2.10.15//
METHOD:PUBLISH
BEGIN:VEVENT
UID:20260424T084017UTC-8623VIlVvn@https://eruuf.org/
DTSTAMP:20260424T084017Z
DESCRIPTION:December 18\, 2019: Backs Against The Wall: The Howard Thurman 
 Story - Explores the extraordinary life and legacy of one of the most impo
 rtant religious figures of the 20th century.  Born the grandson of slaves\
 , Thurman became a “spiritual foundation” for the Civil Rights movement\, 
 inspiring many of its leaders\, including Martin Luther King. Jr.\, Jessie
  Jackson  andCongressmen John Lewis. \nRegister https://eruuf.org/calendar
 /calendar-view/event/7941-multicultural-team-mct-film-series.html
DTSTART:20191211T233000Z
DTEND:20191212T020000Z
LOCATION:Commons Room   (4907 Garrett Rd\, Durham\, NC 27707  )
SUMMARY:Multicultural Team (MCT) Film Series 
URL:https://eruuf.org/calendar/calendar-view/event/7941-multicultural-team-
 mct-film-series.html
END:VEVENT
END:VCALENDAR
