BEGIN:VCALENDAR
VERSION:2.0
PRODID:-//https://eruuf.org///NONSGML kigkonsult.se iCalcreator 2.10.15//
METHOD:PUBLISH
BEGIN:VEVENT
UID:20260424T153645UTC-7382rjVr8v@https://eruuf.org/
DTSTAMP:20260424T153645Z
DESCRIPTION:January 8\, 15\, 22\, 29\, 2020 When They See Us. (parts 1-4) -
  In 1989\, a jogger was assaulted and raped in New York's Central Park\, a
 nd five young teens were subsequently charged with the crime.  The quintet
  labeled the Central Park Five\, maintained its innocence and spent years 
 fighting the convictions\, hoping to be exonerated .  This series spans a 
 quarter of a century. This is a Netflix four part series.  The series will
  be shown over a four week period of time.\nRegister https://eruuf.org/cal
 endar/calendar-view/event/7942-multicultural-team-mct-film-series.html
DTSTART:20200108T233000Z
DTEND:20200109T020000Z
LOCATION:Commons Room   (4907 Garrett Rd\, Durham\, NC 27707  )
SUMMARY:Multicultural Team (MCT) Film Series 
URL:https://eruuf.org/calendar/calendar-view/event/7942-multicultural-team-
 mct-film-series.html
END:VEVENT
END:VCALENDAR
