BEGIN:VCALENDAR
VERSION:2.0
PRODID:-//https://eruuf.org///NONSGML kigkonsult.se iCalcreator 2.10.15//
METHOD:PUBLISH
BEGIN:VEVENT
UID:20260423T083445UTC-8867jxJMXP@https://eruuf.org/
DTSTAMP:20260423T083445Z
DESCRIPTION:February 12\, 2020: I dream in Another Language (Spanish with E
 nglish Subtitles). An indigenous language is in peril as its last two spea
 kers\, Evaristo and Isauro had a quarrel in the past and haven’t spoken to
  each other in over fifty years.  Martin\, a young linguist will undertake
  the challenge to bring the old friends back together\, and convince them 
 to one again talk to each other\, all so he can obtain a recorded registra
 tion of the language and study it.  However\, hidden in the past\, in the 
 heart of the jungle\, lies a secret concealed by the language that makes i
 t difficult to believe that the heart of Zikril will beat again.\nRegister
  https://eruuf.org/calendar/calendar-view/event/7943-multicultural-team-mc
 t-film-series.html
DTSTART:20200212T233000Z
DTEND:20200213T020000Z
LOCATION:Commons Room   (4907 Garrett Rd\, Durham\, NC 27707  )
SUMMARY:Multicultural Team (MCT) Film Series 
URL:https://eruuf.org/calendar/calendar-view/event/7943-multicultural-team-
 mct-film-series.html
END:VEVENT
END:VCALENDAR
