BEGIN:VCALENDAR
VERSION:2.0
PRODID:-//https://eruuf.org///NONSGML kigkonsult.se iCalcreator 2.10.15//
METHOD:PUBLISH
BEGIN:VEVENT
UID:20260424T042207UTC-5365MrTB7n@https://eruuf.org/
DTSTAMP:20260424T042207Z
DESCRIPTION:March 11\, 2020: Reconstruction: America After the Civil War Pa
 rt 1. Renowned Harvard scholar Henry Louis Gates\, Jr. presents a vital\, 
 new four -hour documentary series.  This series explores the transformativ
 e years following the American Civil War\, when the nation struggled to re
 build itself in the face of both profound destruction and revolutionary so
 cial change.\nRegister https://eruuf.org/calendar/calendar-view/event/7944
 -multicultural-team-mct-film-series.html
DTSTART:20200311T223000Z
DTEND:20200312T010000Z
LOCATION:Commons Room   (4907 Garrett Rd\, Durham\, NC 27707  )
SUMMARY:Multicultural Team (MCT) Film Series 
URL:https://eruuf.org/calendar/calendar-view/event/7944-multicultural-team-
 mct-film-series.html
END:VEVENT
END:VCALENDAR
