BEGIN:VCALENDAR
VERSION:2.0
PRODID:-//https://eruuf.org///NONSGML kigkonsult.se iCalcreator 2.10.15//
METHOD:PUBLISH
BEGIN:VEVENT
UID:20260423T022258UTC-5616PGcB4m@https://eruuf.org/
DTSTAMP:20260423T022258Z
DESCRIPTION:April 22\, 2020: Reconstruction: America After the Civil War Pa
 rt 2. This series tells the real story of Reconstruction \, one of America
 ’s most overlooked and misrepresented periods of history.  It honors the s
 truggle of the African American who fought their way out of slavery and ch
 allenged the nation to live up to the founding ideals of democracy\, freed
 om and equality.\nRegister https://eruuf.org/calendar/calendar-view/event/
 7945-multicultural-team-mct-film-series.html
DTSTART:20200422T223000Z
DTEND:20200423T010000Z
LOCATION:Commons Room   (4907 Garrett Rd\, Durham\, NC 27707  )
SUMMARY:Multicultural Team (MCT) Film Series 
URL:https://eruuf.org/calendar/calendar-view/event/7945-multicultural-team-
 mct-film-series.html
END:VEVENT
END:VCALENDAR
