BEGIN:VCALENDAR
VERSION:2.0
PRODID:-//https://eruuf.org///NONSGML kigkonsult.se iCalcreator 2.10.15//
METHOD:PUBLISH
BEGIN:VEVENT
UID:20260425T103458UTC-2386gGCoKP@https://eruuf.org/
DTSTAMP:20260425T103458Z
DESCRIPTION:On May 20th at 6:30 pm\,  we will be showing The Public: Every 
 Story Matters. The film explores the relationships of homeless people as t
 hey take shelter in a public library during an arctic storm. The homeless 
 people stage an “occupy” sit-in as an act of civil disobedience that clash
 es with the police and a rush to judgement media environment.\nRegister ht
 tps://eruuf.org/calendar/calendar-view/event/7946-multicultural-team-mct-f
 ilm-series.html
DTSTART:20200520T223000Z
DTEND:20200521T010000Z
LOCATION:Commons Room   (4907 Garrett Rd\, Durham\, NC 27707  )
SUMMARY:Multicultural Team (MCT) Film Series 
URL:https://eruuf.org/calendar/calendar-view/event/7946-multicultural-team-
 mct-film-series.html
END:VEVENT
END:VCALENDAR
