BEGIN:VCALENDAR
VERSION:2.0
PRODID:-//https://eruuf.org///NONSGML kigkonsult.se iCalcreator 2.10.15//
METHOD:PUBLISH
BEGIN:VEVENT
UID:20260425T162017UTC-8204puvTub@https://eruuf.org/
DTSTAMP:20260425T162017Z
DESCRIPTION:Life of a King: Wednesday\, June 17\, 1:00 pm or Friday\, June 
 19\, 4:00 pmAn ex-felon (Academy Award-winner Cuba Gooding Jr.) on a path 
 of redemption defies convention and establishes a chess club for inner-cit
 y teenagers in Washington\, D.C.Watch: https://www.youtube.com/watch?v=z2v
 GzImfw9QPlease register below for one of the Zoom discussion dates below a
 nd you will receive a Zoom link.\nRegisterQuestions? Contact Diane Blount\
 , cantu99797@aol.com. https://eruuf.org/calendar/calendar-view/event/7947-
 multicultural-team-mct-film-series.html
DTSTART:20200617T170000Z
DTEND:20200617T190000Z
LOCATION:Online (Zoom) (Scroll down to join or register.) ()
SUMMARY:Multicultural Team (MCT) Film Series 
URL:https://eruuf.org/calendar/calendar-view/event/7947-multicultural-team-
 mct-film-series.html
END:VEVENT
END:VCALENDAR
